BEGIN:VCALENDAR
VERSION:2.0
PRODID:-//PWV Ortsgruppe Landstuhl e.V. - ECPv6.15.20//NONSGML v1.0//EN
CALSCALE:GREGORIAN
METHOD:PUBLISH
X-ORIGINAL-URL:https://www.pwv-landstuhl.de
X-WR-CALDESC:Veranstaltungen für PWV Ortsgruppe Landstuhl e.V.
REFRESH-INTERVAL;VALUE=DURATION:PT1H
X-Robots-Tag:noindex
X-PUBLISHED-TTL:PT1H
BEGIN:VTIMEZONE
TZID:Europe/Paris
BEGIN:DAYLIGHT
TZOFFSETFROM:+0100
TZOFFSETTO:+0200
TZNAME:CEST
DTSTART:20230326T010000
END:DAYLIGHT
BEGIN:STANDARD
TZOFFSETFROM:+0200
TZOFFSETTO:+0100
TZNAME:CET
DTSTART:20231029T010000
END:STANDARD
BEGIN:DAYLIGHT
TZOFFSETFROM:+0100
TZOFFSETTO:+0200
TZNAME:CEST
DTSTART:20240331T010000
END:DAYLIGHT
BEGIN:STANDARD
TZOFFSETFROM:+0200
TZOFFSETTO:+0100
TZNAME:CET
DTSTART:20241027T010000
END:STANDARD
BEGIN:DAYLIGHT
TZOFFSETFROM:+0100
TZOFFSETTO:+0200
TZNAME:CEST
DTSTART:20250330T010000
END:DAYLIGHT
BEGIN:STANDARD
TZOFFSETFROM:+0200
TZOFFSETTO:+0100
TZNAME:CET
DTSTART:20251026T010000
END:STANDARD
END:VTIMEZONE
BEGIN:VEVENT
DTSTART;TZID=Europe/Paris:20240316T140000
DTEND;TZID=Europe/Paris:20240316T170000
DTSTAMP:20260424T022356
CREATED:20240101T131856Z
LAST-MODIFIED:20240307T084042Z
UID:440-1710597600-1710608400@www.pwv-landstuhl.de
SUMMARY:Osterwanderung
DESCRIPTION:Auf die Suche nach dem Osterhasen geht es am 16. März auf eine lokale Wanderung mit dem Pfälzerwald-Verein Ortsgruppe Landstuhl.\nTreffpunkt ist auf der Melkerei am Ausläufer des Pont-a-Mousson-Ring vor dem Waldrand (Pont-a-Mousson-Ring 64) um 14:00 Uhr. Von dort aus laufen wir\, für Kinder und Senioren geeignete\, leicht begehbare Wege in Richtung Bann. Die Wegstecke beträgt ca. 5 km mit einem Anstieg von nur 50 hm.\nAlle PWV-Mitglieder und Interessierte sind herzlich zur Wanderung eingeladen. Eine Anmeldung beim Osterhasen wäre wünschenswert (info@pwv-landstuhl.de bzw. www.pwv-landstuhl.de/anmeldung). Wir freuen uns auf eine schöne Wanderung mit euch!
URL:https://www.pwv-landstuhl.de/event/osterwanderung/
END:VEVENT
END:VCALENDAR