BEGIN:VCALENDAR
VERSION:2.0
PRODID:-//PWV Ortsgruppe Landstuhl e.V. - ECPv6.15.20//NONSGML v1.0//EN
CALSCALE:GREGORIAN
METHOD:PUBLISH
X-WR-CALNAME:PWV Ortsgruppe Landstuhl e.V.
X-ORIGINAL-URL:https://www.pwv-landstuhl.de
X-WR-CALDESC:Veranstaltungen für PWV Ortsgruppe Landstuhl e.V.
REFRESH-INTERVAL;VALUE=DURATION:PT1H
X-Robots-Tag:noindex
X-PUBLISHED-TTL:PT1H
BEGIN:VTIMEZONE
TZID:Europe/Paris
BEGIN:DAYLIGHT
TZOFFSETFROM:+0100
TZOFFSETTO:+0200
TZNAME:CEST
DTSTART:20230326T010000
END:DAYLIGHT
BEGIN:STANDARD
TZOFFSETFROM:+0200
TZOFFSETTO:+0100
TZNAME:CET
DTSTART:20231029T010000
END:STANDARD
BEGIN:DAYLIGHT
TZOFFSETFROM:+0100
TZOFFSETTO:+0200
TZNAME:CEST
DTSTART:20240331T010000
END:DAYLIGHT
BEGIN:STANDARD
TZOFFSETFROM:+0200
TZOFFSETTO:+0100
TZNAME:CET
DTSTART:20241027T010000
END:STANDARD
BEGIN:DAYLIGHT
TZOFFSETFROM:+0100
TZOFFSETTO:+0200
TZNAME:CEST
DTSTART:20250330T010000
END:DAYLIGHT
BEGIN:STANDARD
TZOFFSETFROM:+0200
TZOFFSETTO:+0100
TZNAME:CET
DTSTART:20251026T010000
END:STANDARD
END:VTIMEZONE
BEGIN:VEVENT
DTSTART;TZID=Europe/Paris:20240601T140000
DTEND;TZID=Europe/Paris:20240601T220000
DTSTAMP:20260423T212635
CREATED:20240412T063116Z
LAST-MODIFIED:20240512T195320Z
UID:510-1717250400-1717279200@www.pwv-landstuhl.de
SUMMARY:PWV Schorlewanderung Deidesheim
DESCRIPTION:Zeit & Ort\n\n\n01. Juni 2024\, 14:00 \nWinzerverein Deidesheim eG\, Prinz-Rupprecht-Straße 8\, 67146 Deidesheim\, Deutschland \n\n\n\n\nÜber die Veranstaltung\n\n\n\nStart und Ausgabe der Dubbegläser/Tickets: nur von 14 Uhr bis 15 Uhr auf dem Gelände des Winzervereins Deidesheim (Prinz-Rupprecht-Straße 8\, 67146 Deidesheim\, direkt am Bahnhof)\nBei der Anmeldung bekommt jeder Teilnehmer gegen Vorlage des Tickets sein PWV-Dubbeglas\, eine Begrüßungsschorle\, einen kleinen Snack\, einen Flyer mit der Route sowie ein Einlass-Bändchen für das Konzert ausgehändigt\nDie 9 km lange Rundwanderung führt über zwei Stationen\, an denen die Dubbegläser gegen Entgelt wieder aufgefüllt werden können\, und endet mit einem Solo-Konzert von Gringo Mayer (https://www.gringomayer.de/) wieder auf dem Gelände des Winzervereins Deidesheim – jeder Teilnehmer\, bzw. jede Gruppe kann anhand des Flyers inkl. der digitalen Strecke eigenständig die Route laufen.\nEinlass für das an die Wanderung anschließende Gringo-Mayer-Konzert ist gegen 18 Uhr. Um 19 Uhr beginnt das Konzert. Essen und Getränke werden vor Ort verkauft. Ausschankstopp ist um 22 Uhr.\nPreis: 28\,- € inkl. Mehrwertsteuer\, PWV-Dubbeglas\, Begrüßungsschorle\, kleinem Snack und Konzerteintritt\n\n  \nTickets sind ausschließlich HIER erhältlich. \n  \nVeranstaltet wird die PWV-Schorlewanderung vom \nPfälzerwald-Verein e. V. \nFröbelstraße 24 \n67433 Neustadt \nTel. 06321 2200 \nE-Mail: info@pwv.de | www.pwv.de
URL:https://www.pwv-landstuhl.de/event/pwv-schorlewanderung-deidesheim/
END:VEVENT
END:VCALENDAR