BEGIN:VCALENDAR
VERSION:2.0
PRODID:-//PWV Ortsgruppe Landstuhl e.V. - ECPv6.15.20//NONSGML v1.0//EN
CALSCALE:GREGORIAN
METHOD:PUBLISH
X-ORIGINAL-URL:https://www.pwv-landstuhl.de
X-WR-CALDESC:Veranstaltungen für PWV Ortsgruppe Landstuhl e.V.
REFRESH-INTERVAL;VALUE=DURATION:PT1H
X-Robots-Tag:noindex
X-PUBLISHED-TTL:PT1H
BEGIN:VTIMEZONE
TZID:Europe/Paris
BEGIN:DAYLIGHT
TZOFFSETFROM:+0100
TZOFFSETTO:+0200
TZNAME:CEST
DTSTART:20240331T010000
END:DAYLIGHT
BEGIN:STANDARD
TZOFFSETFROM:+0200
TZOFFSETTO:+0100
TZNAME:CET
DTSTART:20241027T010000
END:STANDARD
BEGIN:DAYLIGHT
TZOFFSETFROM:+0100
TZOFFSETTO:+0200
TZNAME:CEST
DTSTART:20250330T010000
END:DAYLIGHT
BEGIN:STANDARD
TZOFFSETFROM:+0200
TZOFFSETTO:+0100
TZNAME:CET
DTSTART:20251026T010000
END:STANDARD
BEGIN:DAYLIGHT
TZOFFSETFROM:+0100
TZOFFSETTO:+0200
TZNAME:CEST
DTSTART:20260329T010000
END:DAYLIGHT
BEGIN:STANDARD
TZOFFSETFROM:+0200
TZOFFSETTO:+0100
TZNAME:CET
DTSTART:20261025T010000
END:STANDARD
END:VTIMEZONE
BEGIN:VEVENT
DTSTART;TZID=Europe/Paris:20250418T140000
DTEND;TZID=Europe/Paris:20250418T170000
DTSTAMP:20260421T182220
CREATED:20250210T081653Z
LAST-MODIFIED:20250415T175838Z
UID:723-1744984800-1744995600@www.pwv-landstuhl.de
SUMMARY:Osterwanderung
DESCRIPTION:Auf der Suche nach dem Osterhasen geht es am 18. April auf eine lokale Wanderung mit dem Pfälzerwald-Verein Ortsgruppe Landstuhl. \nTreffpunkt ist am Rothenborn\, vor dem großen Spielplatz des Reha-Zentrums um 14:00 Uhr. Von dort aus laufen wir für Kinder und Senioren geeignete\, leicht begehbare Wege. Die Stecke beträgt ca. 3 km. Im Anschluss ist ein geselliges Ausklingen mit Spielmöglichkeiten für die Kleinen geplant. \nAlle PWV-Mitglieder und Interessierte sind herzlich zur Wanderung eingeladen. Eine Anmeldung beim Osterhasen wäre wünschenswert (info@pwv-landstuhl.de bzw. www.pwv-landstuhl.de/anmeldung). Wir freuen uns auf eine schöne Wanderung mit euch!
URL:https://www.pwv-landstuhl.de/event/osterwanderung-2/
END:VEVENT
END:VCALENDAR