BEGIN:VCALENDAR
VERSION:2.0
PRODID:-//PWV Ortsgruppe Landstuhl e.V. - ECPv6.15.20//NONSGML v1.0//EN
CALSCALE:GREGORIAN
METHOD:PUBLISH
X-WR-CALNAME:PWV Ortsgruppe Landstuhl e.V.
X-ORIGINAL-URL:https://www.pwv-landstuhl.de
X-WR-CALDESC:Veranstaltungen für PWV Ortsgruppe Landstuhl e.V.
REFRESH-INTERVAL;VALUE=DURATION:PT1H
X-Robots-Tag:noindex
X-PUBLISHED-TTL:PT1H
BEGIN:VTIMEZONE
TZID:Europe/Paris
BEGIN:DAYLIGHT
TZOFFSETFROM:+0100
TZOFFSETTO:+0200
TZNAME:CEST
DTSTART:20240331T010000
END:DAYLIGHT
BEGIN:STANDARD
TZOFFSETFROM:+0200
TZOFFSETTO:+0100
TZNAME:CET
DTSTART:20241027T010000
END:STANDARD
BEGIN:DAYLIGHT
TZOFFSETFROM:+0100
TZOFFSETTO:+0200
TZNAME:CEST
DTSTART:20250330T010000
END:DAYLIGHT
BEGIN:STANDARD
TZOFFSETFROM:+0200
TZOFFSETTO:+0100
TZNAME:CET
DTSTART:20251026T010000
END:STANDARD
BEGIN:DAYLIGHT
TZOFFSETFROM:+0100
TZOFFSETTO:+0200
TZNAME:CEST
DTSTART:20260329T010000
END:DAYLIGHT
BEGIN:STANDARD
TZOFFSETFROM:+0200
TZOFFSETTO:+0100
TZNAME:CET
DTSTART:20261025T010000
END:STANDARD
END:VTIMEZONE
BEGIN:VEVENT
DTSTART;TZID=Europe/Paris:20250531T093000
DTEND;TZID=Europe/Paris:20250531T150000
DTSTAMP:20260421T150911
CREATED:20250210T081756Z
LAST-MODIFIED:20250507T080656Z
UID:727-1748683800-1748703600@www.pwv-landstuhl.de
SUMMARY:Altschlossfelsen Eppenbrunn
DESCRIPTION:Am Samstag den 31.05.2025 lädt die PWV Ortsgruppe Landstuhl herzlich zu einer Wanderung zu den Altschloss-Felsen\, die das größte Felsmassiv der Pfalz bilden. Auf dem Rundweg vorbei an den beeindruckenden Felsen\, über die Grenze nach Frankreich (zur Einkehr) und zurück\, wird uns Klaus Sturzebecher führen. Treffpunkt ist der Mitfahrerparkplatz am Ortseingang zu Landstuhl (an der L363\, Ramstein-Miesenbach) um 9:30 Uhr. Von dort aus fahren wir gemeinsam zum Parkplatz Altschloss-Felsen (Spießweiher\, Eppenbrunn)\, wo die Wanderung um 10:30 Uhr beginnt. Der gesamte Weg hat eine Länge von etwa 12 km. Auf halbem Weg ist zur Mittagszeit eine Einkehr in Roppeviller (Frankreich) im Café Lorrain geplant. Um eine dortige Reservierung vornehmen zu können\, bitten wir um eine Anmeldung zur Wanderung bis zum 17.05.2025 (über unsere Website https://pwv-landstuhl.de/anmeldung/ oder info@pwv-landstuhl.de) \nAlle PWV-Mitglieder und Interessierten sind herzlich zur Wanderung eingeladen. Wir freuen uns auf eine schöne Wanderung mit euch!
URL:https://www.pwv-landstuhl.de/event/altschlossfelsen-eppenbrunn/
END:VEVENT
END:VCALENDAR