BEGIN:VCALENDAR
VERSION:2.0
PRODID:-//PWV Ortsgruppe Landstuhl e.V. - ECPv6.15.20//NONSGML v1.0//EN
CALSCALE:GREGORIAN
METHOD:PUBLISH
X-ORIGINAL-URL:https://www.pwv-landstuhl.de
X-WR-CALDESC:Veranstaltungen für PWV Ortsgruppe Landstuhl e.V.
REFRESH-INTERVAL;VALUE=DURATION:PT1H
X-Robots-Tag:noindex
X-PUBLISHED-TTL:PT1H
BEGIN:VTIMEZONE
TZID:Europe/Paris
BEGIN:DAYLIGHT
TZOFFSETFROM:+0100
TZOFFSETTO:+0200
TZNAME:CEST
DTSTART:20240331T010000
END:DAYLIGHT
BEGIN:STANDARD
TZOFFSETFROM:+0200
TZOFFSETTO:+0100
TZNAME:CET
DTSTART:20241027T010000
END:STANDARD
BEGIN:DAYLIGHT
TZOFFSETFROM:+0100
TZOFFSETTO:+0200
TZNAME:CEST
DTSTART:20250330T010000
END:DAYLIGHT
BEGIN:STANDARD
TZOFFSETFROM:+0200
TZOFFSETTO:+0100
TZNAME:CET
DTSTART:20251026T010000
END:STANDARD
BEGIN:DAYLIGHT
TZOFFSETFROM:+0100
TZOFFSETTO:+0200
TZNAME:CEST
DTSTART:20260329T010000
END:DAYLIGHT
BEGIN:STANDARD
TZOFFSETFROM:+0200
TZOFFSETTO:+0100
TZNAME:CET
DTSTART:20261025T010000
END:STANDARD
END:VTIMEZONE
BEGIN:VEVENT
DTSTART;TZID=Europe/Paris:20250615T100000
DTEND;TZID=Europe/Paris:20250615T150000
DTSTAMP:20260421T152341
CREATED:20250210T081820Z
LAST-MODIFIED:20250610T203538Z
UID:729-1749981600-1749999600@www.pwv-landstuhl.de
SUMMARY:Felsenpfad Dahn [*Fällt aus*]
DESCRIPTION:Leider müssen wir die Veranstaltung absagen\, ob es einen Nachholtermin gibt können wir aktuell noch nicht sagen.
URL:https://www.pwv-landstuhl.de/event/felsenpfad-dahn/
END:VEVENT
END:VCALENDAR