BEGIN:VCALENDAR
VERSION:2.0
PRODID:-//PWV Ortsgruppe Landstuhl e.V. - ECPv6.15.20//NONSGML v1.0//EN
CALSCALE:GREGORIAN
METHOD:PUBLISH
X-ORIGINAL-URL:https://www.pwv-landstuhl.de
X-WR-CALDESC:Veranstaltungen für PWV Ortsgruppe Landstuhl e.V.
REFRESH-INTERVAL;VALUE=DURATION:PT1H
X-Robots-Tag:noindex
X-PUBLISHED-TTL:PT1H
BEGIN:VTIMEZONE
TZID:Europe/Paris
BEGIN:DAYLIGHT
TZOFFSETFROM:+0100
TZOFFSETTO:+0200
TZNAME:CEST
DTSTART:20230326T010000
END:DAYLIGHT
BEGIN:STANDARD
TZOFFSETFROM:+0200
TZOFFSETTO:+0100
TZNAME:CET
DTSTART:20231029T010000
END:STANDARD
BEGIN:DAYLIGHT
TZOFFSETFROM:+0100
TZOFFSETTO:+0200
TZNAME:CEST
DTSTART:20240331T010000
END:DAYLIGHT
BEGIN:STANDARD
TZOFFSETFROM:+0200
TZOFFSETTO:+0100
TZNAME:CET
DTSTART:20241027T010000
END:STANDARD
BEGIN:DAYLIGHT
TZOFFSETFROM:+0100
TZOFFSETTO:+0200
TZNAME:CEST
DTSTART:20250330T010000
END:DAYLIGHT
BEGIN:STANDARD
TZOFFSETFROM:+0200
TZOFFSETTO:+0100
TZNAME:CET
DTSTART:20251026T010000
END:STANDARD
END:VTIMEZONE
BEGIN:VEVENT
DTSTART;VALUE=DATE:20240203
DTEND;VALUE=DATE:20240204
DTSTAMP:20260424T021411
CREATED:20240101T131712Z
LAST-MODIFIED:20240128T090504Z
UID:436-1706918400-1707004799@www.pwv-landstuhl.de
SUMMARY:Rundwanderung Ohmbachsee
DESCRIPTION:Am Samstag\, den 03.02.2024\, laden wir zu einer senioren- und familiengerechten Winterwanderung von ca. 3 km um den Ohmbachsee ein. Treffpunkt ist der Parkplatz hinter dem Loungecafé Lifetime in Gries (Bahnhofstr. 17b). Wir laufen zunächst in westlicher Richtung\, über die Brücke\, am gegenüberliegenden Ufer entlang und zurück nach Gries\, wo wir am Kiosk hinter dem Spielplatz einen kurzen Zwischenstopp einlegen werden. Im Anschluss an die Wanderung besteht die Möglichkeit sich im Loungecafé aufzuwärmen und noch etwas zu verweilen. \nAlle PWV-Mitglieder und Interessierte sind herzlich zur Wanderung eingeladen. Eine Anmeldung ist nicht erforderlich.
URL:https://www.pwv-landstuhl.de/event/rundwanderung-ohmbachsee/
END:VEVENT
BEGIN:VEVENT
DTSTART;TZID=Europe/Paris:20240222T180000
DTEND;TZID=Europe/Paris:20240222T200000
DTSTAMP:20260424T021411
CREATED:20240207T074013Z
LAST-MODIFIED:20240207T074013Z
UID:468-1708624800-1708632000@www.pwv-landstuhl.de
SUMMARY:Mitgliederversammlung 2024
DESCRIPTION:Hiermit möchten wir alle Vereinsmitglieder der Ortsgruppe Landstuhl recht herzlich zur ordentlichen Mitgliederversammlung einladen. Diese findet am Donnerstag\, den 22.02.2024\, ab 18 Uhr im Nebenraum des Marécage in Landstuhl statt. \nFolgende Tagesordnungspunkte stehen auf dem Programm: \n\nBegrüßung\nRückblick der Vorsitzenden und Ehrungen\nRechnungslegung\n\nKassenbericht und Haushaltsplan\nEntlastung der Vorstandschaft\n\n\nErhöhung der Ortsgruppenzuschläge 2025\nVorhaben 2024\nVerschiedenes und Anträge \n\nWir bitten um Voranmeldung (unter www.pwv-landstuhl.de\, via E-Mail an info@pwv-landstuhl.de\, oder telefonisch unter 0176/6103 9722). Anträge bitten wir bis Montag\, den 19.02.2024\, schriftlich per E-Mail unter info@pwv-landstuhl.de oder bei der Ortsgruppenvorsitzenden (Maike O’Loughlin\, Ludwigstr. 6\, 66849 Landstuhl) einzureichen. \nEuer Vorstand
URL:https://www.pwv-landstuhl.de/event/mitgliederversammlung-2024-2/
END:VEVENT
END:VCALENDAR