BEGIN:VCALENDAR
VERSION:2.0
PRODID:-//PWV Ortsgruppe Landstuhl e.V. - ECPv6.15.20//NONSGML v1.0//EN
CALSCALE:GREGORIAN
METHOD:PUBLISH
X-ORIGINAL-URL:https://www.pwv-landstuhl.de
X-WR-CALDESC:Veranstaltungen für PWV Ortsgruppe Landstuhl e.V.
REFRESH-INTERVAL;VALUE=DURATION:PT1H
X-Robots-Tag:noindex
X-PUBLISHED-TTL:PT1H
BEGIN:VTIMEZONE
TZID:Europe/Paris
BEGIN:DAYLIGHT
TZOFFSETFROM:+0100
TZOFFSETTO:+0200
TZNAME:CEST
DTSTART:20230326T010000
END:DAYLIGHT
BEGIN:STANDARD
TZOFFSETFROM:+0200
TZOFFSETTO:+0100
TZNAME:CET
DTSTART:20231029T010000
END:STANDARD
BEGIN:DAYLIGHT
TZOFFSETFROM:+0100
TZOFFSETTO:+0200
TZNAME:CEST
DTSTART:20240331T010000
END:DAYLIGHT
BEGIN:STANDARD
TZOFFSETFROM:+0200
TZOFFSETTO:+0100
TZNAME:CET
DTSTART:20241027T010000
END:STANDARD
BEGIN:DAYLIGHT
TZOFFSETFROM:+0100
TZOFFSETTO:+0200
TZNAME:CEST
DTSTART:20250330T010000
END:DAYLIGHT
BEGIN:STANDARD
TZOFFSETFROM:+0200
TZOFFSETTO:+0100
TZNAME:CET
DTSTART:20251026T010000
END:STANDARD
END:VTIMEZONE
BEGIN:VEVENT
DTSTART;TZID=Europe/Paris:20240525T110000
DTEND;TZID=Europe/Paris:20240525T140000
DTSTAMP:20260423T214720
CREATED:20240412T063107Z
LAST-MODIFIED:20240412T063107Z
UID:508-1716634800-1716645600@www.pwv-landstuhl.de
SUMMARY:PWV Familienwanderung mit der Kräuterfee der AOK
DESCRIPTION:Im Wald\, im Garten\, auf der Wiese oder sonst wo wachsen zahlreiche Wildkräuter. Viele der Kräuter sind reich an Vitaminen\, Mineralstoffen und lassen sich vielfältig verwenden\, sei es in der Küche oder als Heilkraut. Bei der PWV-Familienwanderung am 25. Mai 2024 werden von der Kräuterfee und Apothekerin der AOK verschiedene Wildkräuter wie beispielsweise Löwenzahn\, Brennnessel\, Frauenmantel\, Spitzwegerich usw. vorgestellt und ihre Wirkung familien- und kindgerecht erläutert.\n\nNeben den Wirkungen auf die Gesundheit erfahren die Teilnehmer an diesem Vormittag\, wie Wildkräuter in der Küche verwendet werden können. Zum Beispiel in Form von Suppen\, Salaten\, grünen Smoothies\, Gemüseaufläufen\, beim Brot backen\, Kräuterpesto\, in selbst zubereiteten Brotaufstrichen\, in Blütenform auf Süßspeisen\, Pralinen und mehr. In der PWV-Hütte am Oberberg können Sie nach der Wanderung auch mal selbst Wildkräuter testen.\n\n\nTreffpunkt ist um 11 Uhr an der PWV-Hütte am Oberberg in Olsbrücken.
URL:https://www.pwv-landstuhl.de/event/pwv-familienwanderung-mit-der-kraeuterfee-der-aok/
END:VEVENT
END:VCALENDAR