BEGIN:VCALENDAR
VERSION:2.0
PRODID:-//PWV Ortsgruppe Landstuhl e.V. - ECPv6.15.20//NONSGML v1.0//EN
CALSCALE:GREGORIAN
METHOD:PUBLISH
X-WR-CALNAME:PWV Ortsgruppe Landstuhl e.V.
X-ORIGINAL-URL:https://www.pwv-landstuhl.de
X-WR-CALDESC:Veranstaltungen für PWV Ortsgruppe Landstuhl e.V.
REFRESH-INTERVAL;VALUE=DURATION:PT1H
X-Robots-Tag:noindex
X-PUBLISHED-TTL:PT1H
BEGIN:VTIMEZONE
TZID:Europe/Paris
BEGIN:DAYLIGHT
TZOFFSETFROM:+0100
TZOFFSETTO:+0200
TZNAME:CEST
DTSTART:20230326T010000
END:DAYLIGHT
BEGIN:STANDARD
TZOFFSETFROM:+0200
TZOFFSETTO:+0100
TZNAME:CET
DTSTART:20231029T010000
END:STANDARD
BEGIN:DAYLIGHT
TZOFFSETFROM:+0100
TZOFFSETTO:+0200
TZNAME:CEST
DTSTART:20240331T010000
END:DAYLIGHT
BEGIN:STANDARD
TZOFFSETFROM:+0200
TZOFFSETTO:+0100
TZNAME:CET
DTSTART:20241027T010000
END:STANDARD
BEGIN:DAYLIGHT
TZOFFSETFROM:+0100
TZOFFSETTO:+0200
TZNAME:CEST
DTSTART:20250330T010000
END:DAYLIGHT
BEGIN:STANDARD
TZOFFSETFROM:+0200
TZOFFSETTO:+0100
TZNAME:CET
DTSTART:20251026T010000
END:STANDARD
END:VTIMEZONE
BEGIN:VEVENT
DTSTART;VALUE=DATE:20240818
DTEND;VALUE=DATE:20240819
DTSTAMP:20260423T171254
CREATED:20240622T180153Z
LAST-MODIFIED:20240729T053535Z
UID:571-1723939200-1724025599@www.pwv-landstuhl.de
SUMMARY:Bezirkswandertreffen Rutsweiler
DESCRIPTION:Am Sonntag\, den 18.08.2024 findet der diesjährige Bezirkswandertag in Rutsweiler statt. Der PWV OG Rutsweiler bewirtet die lokale Hütte und sorgt von 10 bis 18 Uhr für entsprechende Verpflegung. \nWir treffen uns um 10 Uhr vor Ort (PWV Hütte Rutsweiler a.d. Lauter) und bietet zwei Touren an. Eine kurze Strecke von etwa 3\,5 km\, vorbei an der Kaiserquelle\, zum Selbergturm und zurück\, sowie eine längere Strecke von knapp 12 km Länge. Zur besseren Planung wird um Anmeldung bis zum 04.08.2024 gebeten (info@pwv-landstuhl.de bzw. www.pwv-landstuhl.de/anmeldung). Alle PWV-Mitglieder und Interessierte sind herzlich zur Wanderung eingeladen. Wir freuen uns auf eine schöne Wanderung mit euch!
URL:https://www.pwv-landstuhl.de/event/bezirkswandertreffen-rutsweiler/
END:VEVENT
BEGIN:VEVENT
DTSTART;TZID=Europe/Paris:20240824T100000
DTEND;TZID=Europe/Paris:20240824T150000
DTSTAMP:20260423T171254
CREATED:20240622T180227Z
LAST-MODIFIED:20240811T185246Z
UID:573-1724493600-1724511600@www.pwv-landstuhl.de
SUMMARY:Mehlinger Heide
DESCRIPTION:Am Samstag\, den 24.08.2024\, lädt der PWV OG Landstuhl zu einer Wanderung durch die wunderschöne Mehlinger Heide ein. Durch den Naturschutzpark wird uns Klaus Sturzebecher führen\, der so einige Wissenshappen für uns bereithält. Treffpunkt ist der Parkplatz Becker (An der Heide 10\, 67678 Mehlingen) um 10 Uhr. Der Rundweg hat eine Länge von etwa 6 km. Nach erfolgreicher Wanderung besteht die Möglichkeit zur geselligen Einkehr in den berühmten Mehlinger Dampfnudelhof oder in die daneben gelegene Flammkuchenhütte. \nAlle PWV-Mitglieder und Interessierten sind herzlich zur Wanderung eingeladen. Eine Anmeldung über unsere Website oder per Mail an info@pwv-landstuhl.de wäre wünschenswert. Wir freuen uns auf eine schöne Wanderung mit euch!
URL:https://www.pwv-landstuhl.de/event/mehlinger-heide/
LOCATION:Parkplatz Becker\, An der Heide 10\, Mehlingen\, Rheinland-Pfalz\, 67678\, Deutschland
END:VEVENT
END:VCALENDAR