BEGIN:VCALENDAR
VERSION:2.0
PRODID:-//PWV Ortsgruppe Landstuhl e.V. - ECPv6.15.20//NONSGML v1.0//EN
CALSCALE:GREGORIAN
METHOD:PUBLISH
X-WR-CALNAME:PWV Ortsgruppe Landstuhl e.V.
X-ORIGINAL-URL:https://www.pwv-landstuhl.de
X-WR-CALDESC:Veranstaltungen für PWV Ortsgruppe Landstuhl e.V.
REFRESH-INTERVAL;VALUE=DURATION:PT1H
X-Robots-Tag:noindex
X-PUBLISHED-TTL:PT1H
BEGIN:VTIMEZONE
TZID:Europe/Paris
BEGIN:DAYLIGHT
TZOFFSETFROM:+0100
TZOFFSETTO:+0200
TZNAME:CEST
DTSTART:20230326T010000
END:DAYLIGHT
BEGIN:STANDARD
TZOFFSETFROM:+0200
TZOFFSETTO:+0100
TZNAME:CET
DTSTART:20231029T010000
END:STANDARD
BEGIN:DAYLIGHT
TZOFFSETFROM:+0100
TZOFFSETTO:+0200
TZNAME:CEST
DTSTART:20240331T010000
END:DAYLIGHT
BEGIN:STANDARD
TZOFFSETFROM:+0200
TZOFFSETTO:+0100
TZNAME:CET
DTSTART:20241027T010000
END:STANDARD
BEGIN:DAYLIGHT
TZOFFSETFROM:+0100
TZOFFSETTO:+0200
TZNAME:CEST
DTSTART:20250330T010000
END:DAYLIGHT
BEGIN:STANDARD
TZOFFSETFROM:+0200
TZOFFSETTO:+0100
TZNAME:CET
DTSTART:20251026T010000
END:STANDARD
END:VTIMEZONE
BEGIN:VEVENT
DTSTART;TZID=Europe/Paris:20241122T173000
DTEND;TZID=Europe/Paris:20241122T210000
DTSTAMP:20260423T121053
CREATED:20240827T191954Z
LAST-MODIFIED:20241112T205626Z
UID:615-1732296600-1732309200@www.pwv-landstuhl.de
SUMMARY:Nachtwanderung
DESCRIPTION:Die Ortsgruppe Landstuhl veranstaltet auch in diesem Jahr wieder eine familienfreundliche Nachtwanderung – Kinder sind ausdrücklich willkommen. Wir treffen uns am Freitag\, den 22. November\, um 17:30 Uhr am Sportplatz in Hauptstuhl (Heidenfelsstraße\, von Landstuhl kommend die 1. Straße links zum Ende durchfahren). Parkplätze sind vor Ort ausreichend vorhanden. Von hier aus begeben wir uns auf einen knapp 3km langen Rundweg durch den Wald. Bitte für die Wanderung eine eigene Lichtquelle wie Stirnlampe\, Taschenlampe o.Ä. mitbringen! Nach der Rückkehr zum Sportplatz erwarten die kleinen und großen Wanderer heiße Würstchen\, Glühwein und Kinderpunsch. Für die Getränke bitten wir ebenfalls um das Mitbringen eigener Tassen. Wir freuen uns auf einen schönen Abend mit euch! \nEine Anmeldung mit unserem einfachen Formular würde uns die Planung erleichtern. \nhttps://www.komoot.de/tour/1951773369?ref=aso \nhttps://maps.app.goo.gl/Uduw7Bzbg3jGsH8h6
URL:https://www.pwv-landstuhl.de/event/nachtwanderung/
END:VEVENT
END:VCALENDAR