BEGIN:VCALENDAR
VERSION:2.0
PRODID:-//PWV Ortsgruppe Landstuhl e.V. - ECPv6.15.20//NONSGML v1.0//EN
CALSCALE:GREGORIAN
METHOD:PUBLISH
X-WR-CALNAME:PWV Ortsgruppe Landstuhl e.V.
X-ORIGINAL-URL:https://www.pwv-landstuhl.de
X-WR-CALDESC:Veranstaltungen für PWV Ortsgruppe Landstuhl e.V.
REFRESH-INTERVAL;VALUE=DURATION:PT1H
X-Robots-Tag:noindex
X-PUBLISHED-TTL:PT1H
BEGIN:VTIMEZONE
TZID:Europe/Paris
BEGIN:DAYLIGHT
TZOFFSETFROM:+0100
TZOFFSETTO:+0200
TZNAME:CEST
DTSTART:20240331T010000
END:DAYLIGHT
BEGIN:STANDARD
TZOFFSETFROM:+0200
TZOFFSETTO:+0100
TZNAME:CET
DTSTART:20241027T010000
END:STANDARD
BEGIN:DAYLIGHT
TZOFFSETFROM:+0100
TZOFFSETTO:+0200
TZNAME:CEST
DTSTART:20250330T010000
END:DAYLIGHT
BEGIN:STANDARD
TZOFFSETFROM:+0200
TZOFFSETTO:+0100
TZNAME:CET
DTSTART:20251026T010000
END:STANDARD
BEGIN:DAYLIGHT
TZOFFSETFROM:+0100
TZOFFSETTO:+0200
TZNAME:CEST
DTSTART:20260329T010000
END:DAYLIGHT
BEGIN:STANDARD
TZOFFSETFROM:+0200
TZOFFSETTO:+0100
TZNAME:CET
DTSTART:20261025T010000
END:STANDARD
END:VTIMEZONE
BEGIN:VEVENT
DTSTART;TZID=Europe/Paris:20250112T140000
DTEND;TZID=Europe/Paris:20250112T170000
DTSTAMP:20260421T214112
CREATED:20250103T175032Z
LAST-MODIFIED:20250103T175032Z
UID:684-1736690400-1736701200@www.pwv-landstuhl.de
SUMMARY:Neujahrswanderung Seewoog
DESCRIPTION:Am Sonntag\, den 12.01.2024 findet eine Neujahrswanderung statt. Wir werden uns um 14:00 Uhr am Kiosk der Blockhütte am Seewoog in Ramstein-Miesenbach (Waldstraße) treffen. Die Wegstrecke ist ca 4km lang und für Mitglieder aller Altersgruppen geeignet. Einen geselligen Ausklang findet die Wanderung an der Blockhütte am Seewoog mit Spielplatzmöglichkeiten für die Kinder. \nWir freuen uns PWV-Mitglieder und Interessierte zu der Wanderung begrüßen zu dürfen. Eine Anmeldung ist nicht erforderlich.
URL:https://www.pwv-landstuhl.de/event/neujahrswanderung-seewoog-2/
END:VEVENT
END:VCALENDAR